BEGIN:VCALENDAR
VERSION:2.0
PRODID:-//Eventin//Event Calendar//EN
CALSCALE:GREGORIAN
METHOD:PUBLISH
BEGIN:VEVENT
UID:8be9dc848a0aa656d9dc80af44e264f3@growsportsam.com
SUMMARY:Liga Grow Golf Club 2026 – J3 | Air Golf Club
DESCRIPTION:Únete a los planes de Grow Golf Club\, seas o no seas del club
 \, ¡disfruta de una forma diferente de jugar al golf! Torneo apto para tod
 os los niveles.\n\n \n\n\nDesayuno y avituallamiento\n \nWelcome pack\n \n
 Sorteo de regalos al acabar el torneo\n \nDriver más largo y bola más cer
 cana\n \nPremio a los dos clasificados de cada categoría. ganador sracth y
  premio forrabolas\n\n \n \n¿Tienes dudas? Las repondemos por Whatsapp\n\
 n\n 
LOCATION:Air Golf Club\, Segovia
DTSTAMP:20260422T110815Z
DTSTART:20260523T063000Z
DTEND:20260523T140000Z
END:VEVENT
END:VCALENDAR
